<?xml-stylesheet type="text/xsl" href="fgdc_classic.xsl"?>
<!DOCTYPE metadata SYSTEM "http://thor-f5.er.usgs.gov/ngtoc/metadata/fgdc-std-001-1998.dtd">
<metadata>
 <idinfo>
  <citation>
   <citeinfo>
    <origin>Dewberry</origin>
    <pubdate>20211227</pubdate>
    <title>New York FEMA Central Lidar WUID 226169; Hydro Flattened Bare Earth DEM</title>
    <geoform>raster digital data</geoform>
   </citeinfo>
  </citation>
  <descript>
   <abstract>Product: These are Digital Elevation Model (DEM) data for Albany, Greene, Hamilton and Schenectady Counties, New York, as part of the required deliverables for the NY FEMA R2 2018 WUID 226169 Lidar Project. Class 2 (ground) lidar points in conjunction with the hydro breaklines were used to create a 1 meter hydro-flattened Raster DEM.
   Geographic Extent: Albany, Greene, Hamilton and Schenectady Counties, New York, covering approximately 3,167 square miles. Dataset Description: NY FEMA R2 2018 WUID 226169 Lidar Project called for the Planning, Acquisition, processing and derivative products of lidar data to be collected at a nominal pulse spacing (NPS) of 0.7 meter. Project specifications are based on the U.S. Geological Survey National Geospatial Program Base Lidar Specification, Version 1.3. The data was developed based on a horizontal projection/datum of NAD83 (2011), Universal Transverse Mercator, meters and vertical datum of NAVD88 (GEOID12B), meters. Lidar data was delivered as processed Classified LAS 1.4 files, formatted to 3,904  individual 1500 m x 1500 m tiles, as tiled bare earth DEMs; all tiled to the same 1500 m x 1500 m schema. The tile grid contains 3,904 tiles. LAS files are not available for the two tiles listed due to 100% water with no point cloud.
   Ground Conditions: Lidar was collected in early 2019 through mid 2020, while no snow was on the ground and rivers were at or below normal levels. In order to post process the lidar data to meet task order specifications and meet ASPRS vertical accuracy guidelines, Dewberry established a total of 37 ground control points that were used to calibrate the lidar to known ground locations established throughout the NY FEMA R2 2018 project area. An additional 93 independent accuracy checkpoints, 56 in Bare Earth and Urban landcovers (56 NVA points), 37 in Tall Grass and Brushland/Low Trees categories (37 VVA points), were used to assess the vertical accuracy of the data. These checkpoints were not used to calibrate or post process the data.</abstract>
   <purpose>To acquire detailed surface elevation data for use in conservation planning, design, research, floodplain mapping, dam safety assessments and elevation modeling, etc. Classified LAS files are used to show the manually reviewed bare earth surface. This allows the user to create Intensity Images, Breaklines and Raster DEM. The purpose of these lidar data was to produce high accuracy 3D hydro-flattened Digital Elevation Model (DEM) with a 1 meter cell size. These raw lidar point cloud data were used to create classified lidar LAS files, intensity images, 3D breaklines, hydro-flattened DEMs as necessary.</purpose>
   <supplinf>
    	Raster File Type = TIFF
    	Bit Depth/Pixel Type = 32-bit float
    	Raster Cell Size = 1 Meter
    	Interpolation or Resampling Technique = Triangulated Irregular Network
    	Required Vertical Accuracy = 19.6 cm NVA
   </supplinf>
  </descript>
  <timeperd>
   <timeinfo>
    <rngdates>
     <begdate>20190425</begdate>
     <enddate>20200925</enddate>
    </rngdates>
   </timeinfo>
   <current>ground condition</current>
  </timeperd>
  <status>
   <progress>Complete</progress>
   <update>None planned</update>
  </status>
    <spdom>
      <bounding>
    <westbc>-74.874654</westbc>
    <eastbc>-73.624135</eastbc>
    <northbc>44.107520</northbc>
    <southbc>42.085260</southbc>
      </bounding>
      <lboundng>
      	<leftbc>510365.782245</leftbc>
 	<rightbc>610124.942843</rightbc>
      	<topbc>4883823.095734</topbc>
      	<bottombc>4660100.372961</bottombc>
      </lboundng>
    </spdom>
  <keywords>
   <theme>
    <themekt>None</themekt>
    <themekey>Model</themekey>
    <themekey>Raster</themekey>
    <themekey>DEM</themekey>
    <themekey>Remote Sensing</themekey>
    <themekey>Elevation Data</themekey>
    <themekey>Lidar</themekey>
   </theme>
   <place>
    <placekt>None</placekt>
    <placekey>New York</placekey>
    <placekey>Albany County</placekey>
    <placekey>Greene County</placekey>
    <placekey>Hamilton County</placekey>
    <placekey>Schenectady County</placekey>
   </place>
  </keywords>
  <accconst>No restrictions apply to these data.</accconst>
  <useconst>None. However, users should be aware that temporal changes may have occurred since this dataset was collected and that some parts of these data may no longer represent actual surface conditions. Users should not use these data for critical applications without a full awareness of its limitations. Acknowledgement of the U.S. Geological Survey would be appreciated for products derived from these data.</useconst>
 </idinfo>
 <dataqual>
  <logic>Data covers the entire area specified for this project.</logic>
  <complete>Datasets contain complete coverage of tiles. No points have been removed or excluded. A visual qualitative assessment was performed to ensure data completeness. There are no void areas or missing data. The raw point cloud is of good quality and data passes Non-Vegetated Vertical Accuracy specifications.</complete>
  <posacc>
   <vertacc>
    <vertaccr>This data set was produced to meet ASPRS Positional Accuracy Standard for Digital Geospatial Data (2014) for a 10-cm RMSEz Vertical Accuracy Class.</vertaccr>
   </vertacc>
  </posacc>
  <lineage>
      <procstep>
        <procdesc>Hydro Flattened Raster DEM Process: Class 2 (ground) lidar points in conjunction with the hydro breaklines were used to create a 1 meter hydro-flattened Raster DEM. Using LP360, a GeoTIFF file was created for each tile. Each surface is reviewed using Global Mapper to check for any surface anomalies or incorrect elevations found within the surface.</procdesc>
        <procdate>20210730</procdate>
      </procstep>
  </lineage>
 </dataqual>
 <spdoinfo>
  <direct>Raster</direct>
  <rastinfo>
   <rasttype>Pixel</rasttype>
   <rowcount>1500</rowcount>
   <colcount>1500</colcount>
  </rastinfo>
 </spdoinfo>
 <spref>
  <horizsys>
   <planar>
    <gridsys>
     <gridsysn>Universal Transverse Mercator</gridsysn>
     <utm>
      <utmzone>18</utmzone>
      <transmer>
       <sfctrmer>0.9996</sfctrmer>
       <longcm> -75.000000</longcm>
       <latprjo>0.0</latprjo>
       <feast>500000</feast>
       <fnorth>0.0</fnorth>
      </transmer>
     </utm>
    </gridsys>
    <planci>
     <plance>row and column</plance>
     <coordrep>
      <absres>1</absres>
      <ordres>1</ordres>
     </coordrep>
     <plandu>meters</plandu>
    </planci>
   </planar>
   <geodetic>
    <horizdn>North American Datum of 1983 (2011)</horizdn>
    <ellips>Geodetic Reference System 80</ellips>
    <semiaxis>6378137</semiaxis>
    <denflat>298.257222101</denflat>
   </geodetic>
  </horizsys>
  <vertdef>
   <altsys>
     <altdatum>North American Vertical Datum of 1988, Geoid 12B</altdatum>
     <altres>1</altres>
     <altunits>meters</altunits>
     <altenc>Explicit elevation coordinate included with horizontal coordinates</altenc>
   </altsys>
  </vertdef>
 </spref>
  <metainfo>
    <metd>20230309</metd>
    <metrd>20230309</metrd>
    <metc>
      <cntinfo>
        <cntorgp>
          <cntorg>Dewberry</cntorg>
        </cntorgp>
        <cntaddr>
          <addrtype>mailing and physical</addrtype>
          <address>1000 N Ashley Drive, suite 801</address>
          <city>Tampa</city>
          <state>FL</state>
          <postal>33602</postal>
          <country>USA</country>
        </cntaddr>
        <cntvoice>(813)225-1325</cntvoice>
      </cntinfo>
    </metc>
    <metstdn>FGDC Content Standard for Digital Geospatial Metadata</metstdn>
    <metstdv>FGDC-STD-001-1998</metstdv>
    <metac>None.</metac>
    <metuc>None.</metuc>
    <metsi>
    	<metscs>None.</metscs>
    	<metsc>Unclassified.</metsc>
    	<metshd>None.</metshd>
    </metsi>
    <metextns>
      <onlink>None.</onlink>
      <metprof>None.</metprof>
    </metextns>
  </metainfo>
</metadata>