<?xml version="1.0"?>
<metadata xml:lang="en"><Esri><CreaDate>20260826</CreaDate><CreaTime>11034900</CreaTime><ArcGISFormat>1.0</ArcGISFormat><SyncOnce>FALSE</SyncOnce><DataProperties><itemProps><itemName Sync="TRUE">NB_Basin_2025_rev.tif</itemName><itemLocation><linkage Sync="TRUE">file://\\dec-smb\dec_gis\Dev\work\NickO\Clearinghouse_Layer_Additions\2026\ChautauquaZip_20260601\final\NB_Basin_2025_rev.tif</linkage><protocol Sync="TRUE">Local Area Network</protocol></itemLocation><imsContentType Sync="TRUE">002</imsContentType><nativeExtBox><westBL Sync="TRUE">901247.497004</westBL><eastBL Sync="TRUE">965582.497004</eastBL><southBL Sync="TRUE">765850.297130</southBL><northBL Sync="TRUE">824980.297130</northBL><exTypeCode Sync="TRUE">1</exTypeCode></nativeExtBox></itemProps><coordRef><type Sync="TRUE">Projected</type><geogcsn Sync="TRUE">GCS_NAD_1983_2011</geogcsn><csUnits Sync="TRUE">Linear Unit: Foot_US (0.304801)</csUnits><projcsn Sync="TRUE">NAD_1983_2011_StatePlane_New_York_West_FIPS_3103_Ft_US</projcsn><peXml Sync="TRUE">&lt;ProjectedCoordinateSystem xsi:type='typens:ProjectedCoordinateSystem' xmlns:xsi='http://www.w3.org/2001/XMLSchema-instance' xmlns:xs='http://www.w3.org/2001/XMLSchema' xmlns:typens='http://www.esri.com/schemas/ArcGIS/3.6.0'&gt;&lt;WKT&gt;PROJCRS[&amp;quot;NAD_1983_2011_StatePlane_New_York_West_FIPS_3103_Ft_US&amp;quot;,BASEGEOGCRS[&amp;quot;GCS_NAD_1983_2011&amp;quot;,DYNAMIC[FRAMEEPOCH[2010.0],MODEL[&amp;quot;HTDP&amp;quot;]],DATUM[&amp;quot;D_NAD_1983_2011&amp;quot;,ELLIPSOID[&amp;quot;GRS_1980&amp;quot;,6378137.0,298.257222101],ANCHOREPOCH[2010.0]],PRIMEM[&amp;quot;Greenwich&amp;quot;,0.0],CS[ellipsoidal,2],AXIS[&amp;quot;Latitude (lat)&amp;quot;,north,ORDER[1]],AXIS[&amp;quot;Longitude (lon)&amp;quot;,east,ORDER[2]],ANGLEUNIT[&amp;quot;Degree&amp;quot;,0.0174532925199433]],CONVERSION[&amp;quot;Transverse_Mercator&amp;quot;,METHOD[&amp;quot;Transverse_Mercator&amp;quot;],PARAMETER[&amp;quot;False_Easting&amp;quot;,1148291.666666667,LENGTHUNIT[&amp;quot;Foot_US&amp;quot;,0.3048006096012192]],PARAMETER[&amp;quot;False_Northing&amp;quot;,0.0,LENGTHUNIT[&amp;quot;Foot_US&amp;quot;,0.3048006096012192]],PARAMETER[&amp;quot;Central_Meridian&amp;quot;,-78.58333333333333],PARAMETER[&amp;quot;Scale_Factor&amp;quot;,0.9999375],PARAMETER[&amp;quot;Latitude_Of_Origin&amp;quot;,40.0]],CS[Cartesian,2],AXIS[&amp;quot;Easting (X)&amp;quot;,east,ORDER[1]],AXIS[&amp;quot;Northing (Y)&amp;quot;,north,ORDER[2]],LENGTHUNIT[&amp;quot;Foot_US&amp;quot;,0.3048006096012192],ID[&amp;quot;EPSG&amp;quot;,&amp;quot;6541&amp;quot;]]&lt;/WKT&gt;&lt;XOrigin&gt;-17299100&lt;/XOrigin&gt;&lt;YOrigin&gt;-47344700&lt;/YOrigin&gt;&lt;XYScale&gt;137250050.35703713&lt;/XYScale&gt;&lt;ZOrigin&gt;-100000&lt;/ZOrigin&gt;&lt;ZScale&gt;10000&lt;/ZScale&gt;&lt;MOrigin&gt;-100000&lt;/MOrigin&gt;&lt;MScale&gt;10000&lt;/MScale&gt;&lt;XYTolerance&gt;0.0032808333333333331&lt;/XYTolerance&gt;&lt;ZTolerance&gt;0.001&lt;/ZTolerance&gt;&lt;MTolerance&gt;0.001&lt;/MTolerance&gt;&lt;HighPrecision&gt;true&lt;/HighPrecision&gt;&lt;WKID&gt;103119&lt;/WKID&gt;&lt;LatestWKID&gt;6541&lt;/LatestWKID&gt;&lt;/ProjectedCoordinateSystem&gt;</peXml></coordRef><RasterProperties><General><PixelDepth Sync="TRUE">32</PixelDepth><HasColormap Sync="TRUE">FALSE</HasColormap><CompressionType Sync="TRUE">LZW</CompressionType><NumBands Sync="TRUE">1</NumBands><Format Sync="TRUE">TIFF</Format><HasPyramids Sync="TRUE">TRUE</HasPyramids><SourceType Sync="TRUE">continuous</SourceType><PixelType Sync="TRUE">floating point</PixelType><NoDataValue Sync="TRUE">-3.4028231e+38</NoDataValue></General></RasterProperties><lineage><Process ToolSource="c:\program files\arcgis\pro\Resources\ArcToolbox\toolboxes\Data Management Tools.tbx\CopyRaster" Date="20260806" Time="160044" Name="" export="">CopyRaster "Elevation Void Fill_Corrected_NS_Basin_2025srvy.tif" "C:\Users\MTPETITH\OneDrive - Ramboll\Projects\Chautauqua_LAKE\RASTER\NB_Basin_2025_rev.tif" # # -3.402823e+38 NONE NONE 32_BIT_FLOAT NONE NONE TIFF NONE CURRENT_SLICE NO_TRANSPOSE</Process><Process ToolSource="c:\program files\arcgis\pro\Resources\ArcToolbox\Toolboxes\Data Management Tools.tbx\Copy" Date="20260826" Time="110350">Copy \\dec-smb\dec_gis\Dev\work\NickO\Clearinghouse_Layer_Additions\2026\ChautauquaZip_20260601\working\NB_Basin_2025_rev\NB_Basin_2025_rev.tif \\dec-smb\dec_gis\Dev\work\NickO\Clearinghouse_Layer_Additions\2026\ChautauquaZip_20260601\final\NB_Basin_2025_rev.tif "Raster Dataset" #</Process><Process ToolSource="c:\program files\arcgis\pro\Resources\ArcToolbox\Toolboxes\Data Management Tools.tbx\Rename" Date="20260826" Time="110410">Rename \\dec-smb\dec_gis\Dev\work\NickO\Clearinghouse_Layer_Additions\2026\ChautauquaZip_20260601\final\NB_Basin_2025_rev.tif \\dec-smb\dec_gis\Dev\work\NickO\Clearinghouse_Layer_Additions\2026\ChautauquaZip_20260601\final\North_south_basin_2025srvy.tif RasterDataset</Process></lineage><copyHistory><copy source="\\dec-smb\dec_gis\Dev\work\NickO\Clearinghouse_Layer_Additions\2026\ChautauquaZip_20260601\working\NB_Basin_2025_rev\NB_Basin_2025_rev.tif" dest="\\dec-smb\dec_gis\Dev\work\NickO\Clearinghouse_Layer_Additions\2026\ChautauquaZip_20260601\final\NB_Basin_2025_rev.tif" date="20260826" time="11034900"></copy></copyHistory></DataProperties><SyncDate>20260806</SyncDate><SyncTime>16004400</SyncTime><ModDate>20260824</ModDate><ModTime>14201500</ModTime><scaleRange><minScale>150000000</minScale><maxScale>5000</maxScale></scaleRange><ArcGISProfile>ItemDescription</ArcGISProfile></Esri><dataIdInfo><envirDesc Sync="TRUE">Microsoft Windows 10 Version 10.0 (Build 26100) ; Esri ArcGIS 13.6.0.59527</envirDesc><dataLang><languageCode value="eng" Sync="TRUE"/><countryCode value="USA" Sync="TRUE"/></dataLang><idCitation><resTitle Sync="FALSE">2025 NYSDEC Bathymetry: Chautauqua Lake (NY)</resTitle><presForm><PresFormCd value="005" Sync="TRUE"/></presForm></idCitation><spatRpType><SpatRepTypCd value="002" Sync="TRUE"/></spatRpType><dataExt><geoEle xmlns=""><GeoBndBox esriExtentType="search"><exTypeCode Sync="FALSE">0</exTypeCode><westBL Sync="TRUE"/><eastBL Sync="TRUE"/><northBL Sync="TRUE"/><southBL Sync="TRUE"/></GeoBndBox></geoEle></dataExt><idPurp>2025 Bathymetric DEM of Chautauqua Lake raster and metadata available to download:

The data includes a raster Digital Elevation Model (DEM) of Chautauqua Lake (NY) North and South Basins. Spatial Reference of Source Data is NAD 83 (2011) State Plane- New York West. All elevations are relative to NAVD88 feet. DEM cell size is 5 feet.</idPurp><searchKeys><keyword>NYS DEC</keyword><keyword>Bathymetry</keyword></searchKeys></dataIdInfo><mdLang><languageCode value="eng" Sync="TRUE"/><countryCode value="USA" Sync="TRUE"/></mdLang><mdChar><CharSetCd value="004" Sync="TRUE"/></mdChar><distInfo><distFormat><formatName Sync="TRUE">Raster Dataset</formatName></distFormat></distInfo><mdHrLv><ScopeCd value="005" Sync="TRUE"/></mdHrLv><mdHrLvName Sync="TRUE">dataset</mdHrLvName><refSysInfo><RefSystem><refSysID><identCode code="6541" Sync="TRUE"/><idCodeSpace Sync="TRUE">EPSG</idCodeSpace><idVersion Sync="TRUE">8.2.10(10.3.1)</idVersion></refSysID></RefSystem></refSysInfo><spatRepInfo><Georect><cellGeo><CellGeoCd Sync="TRUE" value="002"/></cellGeo><numDims Sync="TRUE">2</numDims><tranParaAv Sync="TRUE">1</tranParaAv><chkPtAv Sync="TRUE">0</chkPtAv><cornerPts><pos Sync="TRUE">901247.497004 765850.297130</pos></cornerPts><cornerPts><pos Sync="TRUE">901247.497004 824980.297130</pos></cornerPts><cornerPts><pos Sync="TRUE">965582.497004 824980.297130</pos></cornerPts><cornerPts><pos Sync="TRUE">965582.497004 765850.297130</pos></cornerPts><centerPt><pos Sync="TRUE">933414.997004 795415.297130</pos></centerPt><axisDimension type="002"><dimSize Sync="TRUE">12867</dimSize><dimResol><value Sync="TRUE" uom="ftUS">5.000000</value></dimResol></axisDimension><axisDimension type="001"><dimSize Sync="TRUE">11826</dimSize><dimResol><value Sync="TRUE" uom="ftUS">5.000000</value></dimResol></axisDimension><ptInPixel><PixOrientCd Sync="TRUE" value="001"/></ptInPixel></Georect></spatRepInfo><contInfo><ImgDesc><contentTyp><ContentTypCd Sync="TRUE" value="001"/></contentTyp><covDim><Band><dimDescrp Sync="TRUE">Band_1</dimDescrp><bitsPerVal Sync="TRUE">32</bitsPerVal><valUnit><UOM type="length"/></valUnit></Band></covDim></ImgDesc></contInfo><mdDateSt Sync="TRUE">20260824</mdDateSt></metadata>
